BEGIN:VCALENDAR
VERSION:2.0
PRODID:-//St. Pauls Lutheran Church - ECPv6.15.20//NONSGML v1.0//EN
CALSCALE:GREGORIAN
METHOD:PUBLISH
X-WR-CALNAME:St. Pauls Lutheran Church
X-ORIGINAL-URL:https://stpaulswatertown.com
X-WR-CALDESC:Events for St. Pauls Lutheran Church
REFRESH-INTERVAL;VALUE=DURATION:PT1H
X-Robots-Tag:noindex
X-PUBLISHED-TTL:PT1H
BEGIN:VTIMEZONE
TZID:America/Chicago
BEGIN:DAYLIGHT
TZOFFSETFROM:-0600
TZOFFSETTO:-0500
TZNAME:CDT
DTSTART:20250309T080000
END:DAYLIGHT
BEGIN:STANDARD
TZOFFSETFROM:-0500
TZOFFSETTO:-0600
TZNAME:CST
DTSTART:20251102T070000
END:STANDARD
BEGIN:DAYLIGHT
TZOFFSETFROM:-0600
TZOFFSETTO:-0500
TZNAME:CDT
DTSTART:20260308T080000
END:DAYLIGHT
BEGIN:STANDARD
TZOFFSETFROM:-0500
TZOFFSETTO:-0600
TZNAME:CST
DTSTART:20261101T070000
END:STANDARD
BEGIN:DAYLIGHT
TZOFFSETFROM:-0600
TZOFFSETTO:-0500
TZNAME:CDT
DTSTART:20270314T080000
END:DAYLIGHT
BEGIN:STANDARD
TZOFFSETFROM:-0500
TZOFFSETTO:-0600
TZNAME:CST
DTSTART:20271107T070000
END:STANDARD
END:VTIMEZONE
BEGIN:VEVENT
DTSTART;TZID=America/Chicago:20260422T113000
DTEND;TZID=America/Chicago:20260422T123000
DTSTAMP:20260419T225143
CREATED:20250120T032507Z
LAST-MODIFIED:20250918T020250Z
UID:10000105-1776857400-1776861000@stpaulswatertown.com
SUMMARY:Lunch Bunch
DESCRIPTION:Weekly Bible Study with Pastor George \nBring your lunch and join us as we discover how the Bible came to be. \nThe Lunch Bunch meets each Wednesday from 11:30am–12:30pm in the Fireside Room. All are welcome to join!
URL:https://stpaulswatertown.com/event/lunch-bunch-2/2026-04-22/
LOCATION:St. Paul’s Lutheran Church\, 505 Westminster Ave SW\, Watertown\, Minnesota\, 55388
ATTACH;FMTTYPE=image/webp:https://stpaulswatertown.com/wp-content/uploads/2024/11/lunch-bunch.webp
END:VEVENT
BEGIN:VEVENT
DTSTART;TZID=America/Chicago:20260429T113000
DTEND;TZID=America/Chicago:20260429T123000
DTSTAMP:20260419T225143
CREATED:20250120T032507Z
LAST-MODIFIED:20250918T020250Z
UID:10000106-1777462200-1777465800@stpaulswatertown.com
SUMMARY:Lunch Bunch
DESCRIPTION:Weekly Bible Study with Pastor George \nBring your lunch and join us as we discover how the Bible came to be. \nThe Lunch Bunch meets each Wednesday from 11:30am–12:30pm in the Fireside Room. All are welcome to join!
URL:https://stpaulswatertown.com/event/lunch-bunch-2/2026-04-29/
LOCATION:St. Paul’s Lutheran Church\, 505 Westminster Ave SW\, Watertown\, Minnesota\, 55388
ATTACH;FMTTYPE=image/webp:https://stpaulswatertown.com/wp-content/uploads/2024/11/lunch-bunch.webp
END:VEVENT
BEGIN:VEVENT
DTSTART;TZID=America/Chicago:20260506T113000
DTEND;TZID=America/Chicago:20260506T123000
DTSTAMP:20260419T225143
CREATED:20250120T032507Z
LAST-MODIFIED:20250918T020250Z
UID:10000107-1778067000-1778070600@stpaulswatertown.com
SUMMARY:Lunch Bunch
DESCRIPTION:Weekly Bible Study with Pastor George \nBring your lunch and join us as we discover how the Bible came to be. \nThe Lunch Bunch meets each Wednesday from 11:30am–12:30pm in the Fireside Room. All are welcome to join!
URL:https://stpaulswatertown.com/event/lunch-bunch-2/2026-05-06/
LOCATION:St. Paul’s Lutheran Church\, 505 Westminster Ave SW\, Watertown\, Minnesota\, 55388
ATTACH;FMTTYPE=image/webp:https://stpaulswatertown.com/wp-content/uploads/2024/11/lunch-bunch.webp
END:VEVENT
BEGIN:VEVENT
DTSTART;TZID=America/Chicago:20260513T113000
DTEND;TZID=America/Chicago:20260513T123000
DTSTAMP:20260419T225143
CREATED:20250120T032507Z
LAST-MODIFIED:20250918T020250Z
UID:10000108-1778671800-1778675400@stpaulswatertown.com
SUMMARY:Lunch Bunch
DESCRIPTION:Weekly Bible Study with Pastor George \nBring your lunch and join us as we discover how the Bible came to be. \nThe Lunch Bunch meets each Wednesday from 11:30am–12:30pm in the Fireside Room. All are welcome to join!
URL:https://stpaulswatertown.com/event/lunch-bunch-2/2026-05-13/
LOCATION:St. Paul’s Lutheran Church\, 505 Westminster Ave SW\, Watertown\, Minnesota\, 55388
ATTACH;FMTTYPE=image/webp:https://stpaulswatertown.com/wp-content/uploads/2024/11/lunch-bunch.webp
END:VEVENT
BEGIN:VEVENT
DTSTART;TZID=America/Chicago:20260520T113000
DTEND;TZID=America/Chicago:20260520T123000
DTSTAMP:20260419T225143
CREATED:20250120T032507Z
LAST-MODIFIED:20250918T020250Z
UID:10000109-1779276600-1779280200@stpaulswatertown.com
SUMMARY:Lunch Bunch
DESCRIPTION:Weekly Bible Study with Pastor George \nBring your lunch and join us as we discover how the Bible came to be. \nThe Lunch Bunch meets each Wednesday from 11:30am–12:30pm in the Fireside Room. All are welcome to join!
URL:https://stpaulswatertown.com/event/lunch-bunch-2/2026-05-20/
LOCATION:St. Paul’s Lutheran Church\, 505 Westminster Ave SW\, Watertown\, Minnesota\, 55388
ATTACH;FMTTYPE=image/webp:https://stpaulswatertown.com/wp-content/uploads/2024/11/lunch-bunch.webp
END:VEVENT
BEGIN:VEVENT
DTSTART;TZID=America/Chicago:20260527T113000
DTEND;TZID=America/Chicago:20260527T123000
DTSTAMP:20260419T225143
CREATED:20250120T032507Z
LAST-MODIFIED:20250918T020250Z
UID:10000110-1779881400-1779885000@stpaulswatertown.com
SUMMARY:Lunch Bunch
DESCRIPTION:Weekly Bible Study with Pastor George \nBring your lunch and join us as we discover how the Bible came to be. \nThe Lunch Bunch meets each Wednesday from 11:30am–12:30pm in the Fireside Room. All are welcome to join!
URL:https://stpaulswatertown.com/event/lunch-bunch-2/2026-05-27/
LOCATION:St. Paul’s Lutheran Church\, 505 Westminster Ave SW\, Watertown\, Minnesota\, 55388
ATTACH;FMTTYPE=image/webp:https://stpaulswatertown.com/wp-content/uploads/2024/11/lunch-bunch.webp
END:VEVENT
BEGIN:VEVENT
DTSTART;TZID=America/Chicago:20260603T113000
DTEND;TZID=America/Chicago:20260603T123000
DTSTAMP:20260419T225143
CREATED:20250120T032507Z
LAST-MODIFIED:20250918T020250Z
UID:10000111-1780486200-1780489800@stpaulswatertown.com
SUMMARY:Lunch Bunch
DESCRIPTION:Weekly Bible Study with Pastor George \nBring your lunch and join us as we discover how the Bible came to be. \nThe Lunch Bunch meets each Wednesday from 11:30am–12:30pm in the Fireside Room. All are welcome to join!
URL:https://stpaulswatertown.com/event/lunch-bunch-2/2026-06-03/
LOCATION:St. Paul’s Lutheran Church\, 505 Westminster Ave SW\, Watertown\, Minnesota\, 55388
ATTACH;FMTTYPE=image/webp:https://stpaulswatertown.com/wp-content/uploads/2024/11/lunch-bunch.webp
END:VEVENT
BEGIN:VEVENT
DTSTART;TZID=America/Chicago:20260610T113000
DTEND;TZID=America/Chicago:20260610T123000
DTSTAMP:20260419T225143
CREATED:20250120T032507Z
LAST-MODIFIED:20250918T020250Z
UID:10000112-1781091000-1781094600@stpaulswatertown.com
SUMMARY:Lunch Bunch
DESCRIPTION:Weekly Bible Study with Pastor George \nBring your lunch and join us as we discover how the Bible came to be. \nThe Lunch Bunch meets each Wednesday from 11:30am–12:30pm in the Fireside Room. All are welcome to join!
URL:https://stpaulswatertown.com/event/lunch-bunch-2/2026-06-10/
LOCATION:St. Paul’s Lutheran Church\, 505 Westminster Ave SW\, Watertown\, Minnesota\, 55388
ATTACH;FMTTYPE=image/webp:https://stpaulswatertown.com/wp-content/uploads/2024/11/lunch-bunch.webp
END:VEVENT
BEGIN:VEVENT
DTSTART;TZID=America/Chicago:20260617T113000
DTEND;TZID=America/Chicago:20260617T123000
DTSTAMP:20260419T225143
CREATED:20250120T032507Z
LAST-MODIFIED:20250918T020250Z
UID:10000113-1781695800-1781699400@stpaulswatertown.com
SUMMARY:Lunch Bunch
DESCRIPTION:Weekly Bible Study with Pastor George \nBring your lunch and join us as we discover how the Bible came to be. \nThe Lunch Bunch meets each Wednesday from 11:30am–12:30pm in the Fireside Room. All are welcome to join!
URL:https://stpaulswatertown.com/event/lunch-bunch-2/2026-06-17/
LOCATION:St. Paul’s Lutheran Church\, 505 Westminster Ave SW\, Watertown\, Minnesota\, 55388
ATTACH;FMTTYPE=image/webp:https://stpaulswatertown.com/wp-content/uploads/2024/11/lunch-bunch.webp
END:VEVENT
BEGIN:VEVENT
DTSTART;TZID=America/Chicago:20260624T113000
DTEND;TZID=America/Chicago:20260624T123000
DTSTAMP:20260419T225143
CREATED:20250120T032507Z
LAST-MODIFIED:20250918T020250Z
UID:10000114-1782300600-1782304200@stpaulswatertown.com
SUMMARY:Lunch Bunch
DESCRIPTION:Weekly Bible Study with Pastor George \nBring your lunch and join us as we discover how the Bible came to be. \nThe Lunch Bunch meets each Wednesday from 11:30am–12:30pm in the Fireside Room. All are welcome to join!
URL:https://stpaulswatertown.com/event/lunch-bunch-2/2026-06-24/
LOCATION:St. Paul’s Lutheran Church\, 505 Westminster Ave SW\, Watertown\, Minnesota\, 55388
ATTACH;FMTTYPE=image/webp:https://stpaulswatertown.com/wp-content/uploads/2024/11/lunch-bunch.webp
END:VEVENT
BEGIN:VEVENT
DTSTART;TZID=America/Chicago:20260701T113000
DTEND;TZID=America/Chicago:20260701T123000
DTSTAMP:20260419T225143
CREATED:20250120T032507Z
LAST-MODIFIED:20250918T020250Z
UID:10000115-1782905400-1782909000@stpaulswatertown.com
SUMMARY:Lunch Bunch
DESCRIPTION:Weekly Bible Study with Pastor George \nBring your lunch and join us as we discover how the Bible came to be. \nThe Lunch Bunch meets each Wednesday from 11:30am–12:30pm in the Fireside Room. All are welcome to join!
URL:https://stpaulswatertown.com/event/lunch-bunch-2/2026-07-01/
LOCATION:St. Paul’s Lutheran Church\, 505 Westminster Ave SW\, Watertown\, Minnesota\, 55388
ATTACH;FMTTYPE=image/webp:https://stpaulswatertown.com/wp-content/uploads/2024/11/lunch-bunch.webp
END:VEVENT
BEGIN:VEVENT
DTSTART;TZID=America/Chicago:20260708T113000
DTEND;TZID=America/Chicago:20260708T123000
DTSTAMP:20260419T225143
CREATED:20250120T032507Z
LAST-MODIFIED:20250918T020250Z
UID:10000116-1783510200-1783513800@stpaulswatertown.com
SUMMARY:Lunch Bunch
DESCRIPTION:Weekly Bible Study with Pastor George \nBring your lunch and join us as we discover how the Bible came to be. \nThe Lunch Bunch meets each Wednesday from 11:30am–12:30pm in the Fireside Room. All are welcome to join!
URL:https://stpaulswatertown.com/event/lunch-bunch-2/2026-07-08/
LOCATION:St. Paul’s Lutheran Church\, 505 Westminster Ave SW\, Watertown\, Minnesota\, 55388
ATTACH;FMTTYPE=image/webp:https://stpaulswatertown.com/wp-content/uploads/2024/11/lunch-bunch.webp
END:VEVENT
BEGIN:VEVENT
DTSTART;TZID=America/Chicago:20260715T113000
DTEND;TZID=America/Chicago:20260715T123000
DTSTAMP:20260419T225143
CREATED:20250120T032507Z
LAST-MODIFIED:20250918T020250Z
UID:10000117-1784115000-1784118600@stpaulswatertown.com
SUMMARY:Lunch Bunch
DESCRIPTION:Weekly Bible Study with Pastor George \nBring your lunch and join us as we discover how the Bible came to be. \nThe Lunch Bunch meets each Wednesday from 11:30am–12:30pm in the Fireside Room. All are welcome to join!
URL:https://stpaulswatertown.com/event/lunch-bunch-2/2026-07-15/
LOCATION:St. Paul’s Lutheran Church\, 505 Westminster Ave SW\, Watertown\, Minnesota\, 55388
ATTACH;FMTTYPE=image/webp:https://stpaulswatertown.com/wp-content/uploads/2024/11/lunch-bunch.webp
END:VEVENT
BEGIN:VEVENT
DTSTART;TZID=America/Chicago:20260722T113000
DTEND;TZID=America/Chicago:20260722T123000
DTSTAMP:20260419T225143
CREATED:20250120T032507Z
LAST-MODIFIED:20250918T020250Z
UID:10000118-1784719800-1784723400@stpaulswatertown.com
SUMMARY:Lunch Bunch
DESCRIPTION:Weekly Bible Study with Pastor George \nBring your lunch and join us as we discover how the Bible came to be. \nThe Lunch Bunch meets each Wednesday from 11:30am–12:30pm in the Fireside Room. All are welcome to join!
URL:https://stpaulswatertown.com/event/lunch-bunch-2/2026-07-22/
LOCATION:St. Paul’s Lutheran Church\, 505 Westminster Ave SW\, Watertown\, Minnesota\, 55388
ATTACH;FMTTYPE=image/webp:https://stpaulswatertown.com/wp-content/uploads/2024/11/lunch-bunch.webp
END:VEVENT
BEGIN:VEVENT
DTSTART;TZID=America/Chicago:20260729T113000
DTEND;TZID=America/Chicago:20260729T123000
DTSTAMP:20260419T225143
CREATED:20250120T032507Z
LAST-MODIFIED:20250918T020250Z
UID:10000119-1785324600-1785328200@stpaulswatertown.com
SUMMARY:Lunch Bunch
DESCRIPTION:Weekly Bible Study with Pastor George \nBring your lunch and join us as we discover how the Bible came to be. \nThe Lunch Bunch meets each Wednesday from 11:30am–12:30pm in the Fireside Room. All are welcome to join!
URL:https://stpaulswatertown.com/event/lunch-bunch-2/2026-07-29/
LOCATION:St. Paul’s Lutheran Church\, 505 Westminster Ave SW\, Watertown\, Minnesota\, 55388
ATTACH;FMTTYPE=image/webp:https://stpaulswatertown.com/wp-content/uploads/2024/11/lunch-bunch.webp
END:VEVENT
BEGIN:VEVENT
DTSTART;TZID=America/Chicago:20260805T113000
DTEND;TZID=America/Chicago:20260805T123000
DTSTAMP:20260419T225143
CREATED:20250120T032507Z
LAST-MODIFIED:20250918T020250Z
UID:10000120-1785929400-1785933000@stpaulswatertown.com
SUMMARY:Lunch Bunch
DESCRIPTION:Weekly Bible Study with Pastor George \nBring your lunch and join us as we discover how the Bible came to be. \nThe Lunch Bunch meets each Wednesday from 11:30am–12:30pm in the Fireside Room. All are welcome to join!
URL:https://stpaulswatertown.com/event/lunch-bunch-2/2026-08-05/
LOCATION:St. Paul’s Lutheran Church\, 505 Westminster Ave SW\, Watertown\, Minnesota\, 55388
ATTACH;FMTTYPE=image/webp:https://stpaulswatertown.com/wp-content/uploads/2024/11/lunch-bunch.webp
END:VEVENT
BEGIN:VEVENT
DTSTART;TZID=America/Chicago:20260812T113000
DTEND;TZID=America/Chicago:20260812T123000
DTSTAMP:20260419T225143
CREATED:20250120T032507Z
LAST-MODIFIED:20250918T020250Z
UID:10000121-1786534200-1786537800@stpaulswatertown.com
SUMMARY:Lunch Bunch
DESCRIPTION:Weekly Bible Study with Pastor George \nBring your lunch and join us as we discover how the Bible came to be. \nThe Lunch Bunch meets each Wednesday from 11:30am–12:30pm in the Fireside Room. All are welcome to join!
URL:https://stpaulswatertown.com/event/lunch-bunch-2/2026-08-12/
LOCATION:St. Paul’s Lutheran Church\, 505 Westminster Ave SW\, Watertown\, Minnesota\, 55388
ATTACH;FMTTYPE=image/webp:https://stpaulswatertown.com/wp-content/uploads/2024/11/lunch-bunch.webp
END:VEVENT
BEGIN:VEVENT
DTSTART;TZID=America/Chicago:20260819T113000
DTEND;TZID=America/Chicago:20260819T123000
DTSTAMP:20260419T225143
CREATED:20250120T032507Z
LAST-MODIFIED:20250918T020250Z
UID:10000122-1787139000-1787142600@stpaulswatertown.com
SUMMARY:Lunch Bunch
DESCRIPTION:Weekly Bible Study with Pastor George \nBring your lunch and join us as we discover how the Bible came to be. \nThe Lunch Bunch meets each Wednesday from 11:30am–12:30pm in the Fireside Room. All are welcome to join!
URL:https://stpaulswatertown.com/event/lunch-bunch-2/2026-08-19/
LOCATION:St. Paul’s Lutheran Church\, 505 Westminster Ave SW\, Watertown\, Minnesota\, 55388
ATTACH;FMTTYPE=image/webp:https://stpaulswatertown.com/wp-content/uploads/2024/11/lunch-bunch.webp
END:VEVENT
BEGIN:VEVENT
DTSTART;TZID=America/Chicago:20260826T113000
DTEND;TZID=America/Chicago:20260826T123000
DTSTAMP:20260419T225143
CREATED:20250120T032507Z
LAST-MODIFIED:20250918T020250Z
UID:10000123-1787743800-1787747400@stpaulswatertown.com
SUMMARY:Lunch Bunch
DESCRIPTION:Weekly Bible Study with Pastor George \nBring your lunch and join us as we discover how the Bible came to be. \nThe Lunch Bunch meets each Wednesday from 11:30am–12:30pm in the Fireside Room. All are welcome to join!
URL:https://stpaulswatertown.com/event/lunch-bunch-2/2026-08-26/
LOCATION:St. Paul’s Lutheran Church\, 505 Westminster Ave SW\, Watertown\, Minnesota\, 55388
ATTACH;FMTTYPE=image/webp:https://stpaulswatertown.com/wp-content/uploads/2024/11/lunch-bunch.webp
END:VEVENT
BEGIN:VEVENT
DTSTART;TZID=America/Chicago:20260902T113000
DTEND;TZID=America/Chicago:20260902T123000
DTSTAMP:20260419T225143
CREATED:20250120T032507Z
LAST-MODIFIED:20250918T020250Z
UID:10000124-1788348600-1788352200@stpaulswatertown.com
SUMMARY:Lunch Bunch
DESCRIPTION:Weekly Bible Study with Pastor George \nBring your lunch and join us as we discover how the Bible came to be. \nThe Lunch Bunch meets each Wednesday from 11:30am–12:30pm in the Fireside Room. All are welcome to join!
URL:https://stpaulswatertown.com/event/lunch-bunch-2/2026-09-02/
LOCATION:St. Paul’s Lutheran Church\, 505 Westminster Ave SW\, Watertown\, Minnesota\, 55388
ATTACH;FMTTYPE=image/webp:https://stpaulswatertown.com/wp-content/uploads/2024/11/lunch-bunch.webp
END:VEVENT
BEGIN:VEVENT
DTSTART;TZID=America/Chicago:20260909T113000
DTEND;TZID=America/Chicago:20260909T123000
DTSTAMP:20260419T225143
CREATED:20250120T032507Z
LAST-MODIFIED:20250918T020250Z
UID:10000125-1788953400-1788957000@stpaulswatertown.com
SUMMARY:Lunch Bunch
DESCRIPTION:Weekly Bible Study with Pastor George \nBring your lunch and join us as we discover how the Bible came to be. \nThe Lunch Bunch meets each Wednesday from 11:30am–12:30pm in the Fireside Room. All are welcome to join!
URL:https://stpaulswatertown.com/event/lunch-bunch-2/2026-09-09/
LOCATION:St. Paul’s Lutheran Church\, 505 Westminster Ave SW\, Watertown\, Minnesota\, 55388
ATTACH;FMTTYPE=image/webp:https://stpaulswatertown.com/wp-content/uploads/2024/11/lunch-bunch.webp
END:VEVENT
BEGIN:VEVENT
DTSTART;TZID=America/Chicago:20260916T113000
DTEND;TZID=America/Chicago:20260916T123000
DTSTAMP:20260419T225143
CREATED:20250120T032507Z
LAST-MODIFIED:20250918T020250Z
UID:10000126-1789558200-1789561800@stpaulswatertown.com
SUMMARY:Lunch Bunch
DESCRIPTION:Weekly Bible Study with Pastor George \nBring your lunch and join us as we discover how the Bible came to be. \nThe Lunch Bunch meets each Wednesday from 11:30am–12:30pm in the Fireside Room. All are welcome to join!
URL:https://stpaulswatertown.com/event/lunch-bunch-2/2026-09-16/
LOCATION:St. Paul’s Lutheran Church\, 505 Westminster Ave SW\, Watertown\, Minnesota\, 55388
ATTACH;FMTTYPE=image/webp:https://stpaulswatertown.com/wp-content/uploads/2024/11/lunch-bunch.webp
END:VEVENT
BEGIN:VEVENT
DTSTART;TZID=America/Chicago:20260923T113000
DTEND;TZID=America/Chicago:20260923T123000
DTSTAMP:20260419T225143
CREATED:20250120T032507Z
LAST-MODIFIED:20250918T020250Z
UID:10000127-1790163000-1790166600@stpaulswatertown.com
SUMMARY:Lunch Bunch
DESCRIPTION:Weekly Bible Study with Pastor George \nBring your lunch and join us as we discover how the Bible came to be. \nThe Lunch Bunch meets each Wednesday from 11:30am–12:30pm in the Fireside Room. All are welcome to join!
URL:https://stpaulswatertown.com/event/lunch-bunch-2/2026-09-23/
LOCATION:St. Paul’s Lutheran Church\, 505 Westminster Ave SW\, Watertown\, Minnesota\, 55388
ATTACH;FMTTYPE=image/webp:https://stpaulswatertown.com/wp-content/uploads/2024/11/lunch-bunch.webp
END:VEVENT
BEGIN:VEVENT
DTSTART;TZID=America/Chicago:20260930T113000
DTEND;TZID=America/Chicago:20260930T123000
DTSTAMP:20260419T225143
CREATED:20250120T032507Z
LAST-MODIFIED:20250918T020250Z
UID:10000128-1790767800-1790771400@stpaulswatertown.com
SUMMARY:Lunch Bunch
DESCRIPTION:Weekly Bible Study with Pastor George \nBring your lunch and join us as we discover how the Bible came to be. \nThe Lunch Bunch meets each Wednesday from 11:30am–12:30pm in the Fireside Room. All are welcome to join!
URL:https://stpaulswatertown.com/event/lunch-bunch-2/2026-09-30/
LOCATION:St. Paul’s Lutheran Church\, 505 Westminster Ave SW\, Watertown\, Minnesota\, 55388
ATTACH;FMTTYPE=image/webp:https://stpaulswatertown.com/wp-content/uploads/2024/11/lunch-bunch.webp
END:VEVENT
BEGIN:VEVENT
DTSTART;TZID=America/Chicago:20261007T113000
DTEND;TZID=America/Chicago:20261007T123000
DTSTAMP:20260419T225143
CREATED:20250120T032507Z
LAST-MODIFIED:20250918T020250Z
UID:10000129-1791372600-1791376200@stpaulswatertown.com
SUMMARY:Lunch Bunch
DESCRIPTION:Weekly Bible Study with Pastor George \nBring your lunch and join us as we discover how the Bible came to be. \nThe Lunch Bunch meets each Wednesday from 11:30am–12:30pm in the Fireside Room. All are welcome to join!
URL:https://stpaulswatertown.com/event/lunch-bunch-2/2026-10-07/
LOCATION:St. Paul’s Lutheran Church\, 505 Westminster Ave SW\, Watertown\, Minnesota\, 55388
ATTACH;FMTTYPE=image/webp:https://stpaulswatertown.com/wp-content/uploads/2024/11/lunch-bunch.webp
END:VEVENT
BEGIN:VEVENT
DTSTART;TZID=America/Chicago:20261014T113000
DTEND;TZID=America/Chicago:20261014T123000
DTSTAMP:20260419T225143
CREATED:20250120T032507Z
LAST-MODIFIED:20250918T020250Z
UID:10000130-1791977400-1791981000@stpaulswatertown.com
SUMMARY:Lunch Bunch
DESCRIPTION:Weekly Bible Study with Pastor George \nBring your lunch and join us as we discover how the Bible came to be. \nThe Lunch Bunch meets each Wednesday from 11:30am–12:30pm in the Fireside Room. All are welcome to join!
URL:https://stpaulswatertown.com/event/lunch-bunch-2/2026-10-14/
LOCATION:St. Paul’s Lutheran Church\, 505 Westminster Ave SW\, Watertown\, Minnesota\, 55388
ATTACH;FMTTYPE=image/webp:https://stpaulswatertown.com/wp-content/uploads/2024/11/lunch-bunch.webp
END:VEVENT
BEGIN:VEVENT
DTSTART;TZID=America/Chicago:20261021T113000
DTEND;TZID=America/Chicago:20261021T123000
DTSTAMP:20260419T225143
CREATED:20250120T032507Z
LAST-MODIFIED:20250918T020250Z
UID:10000131-1792582200-1792585800@stpaulswatertown.com
SUMMARY:Lunch Bunch
DESCRIPTION:Weekly Bible Study with Pastor George \nBring your lunch and join us as we discover how the Bible came to be. \nThe Lunch Bunch meets each Wednesday from 11:30am–12:30pm in the Fireside Room. All are welcome to join!
URL:https://stpaulswatertown.com/event/lunch-bunch-2/2026-10-21/
LOCATION:St. Paul’s Lutheran Church\, 505 Westminster Ave SW\, Watertown\, Minnesota\, 55388
ATTACH;FMTTYPE=image/webp:https://stpaulswatertown.com/wp-content/uploads/2024/11/lunch-bunch.webp
END:VEVENT
BEGIN:VEVENT
DTSTART;TZID=America/Chicago:20261028T113000
DTEND;TZID=America/Chicago:20261028T123000
DTSTAMP:20260419T225143
CREATED:20250120T032507Z
LAST-MODIFIED:20250918T020250Z
UID:10000132-1793187000-1793190600@stpaulswatertown.com
SUMMARY:Lunch Bunch
DESCRIPTION:Weekly Bible Study with Pastor George \nBring your lunch and join us as we discover how the Bible came to be. \nThe Lunch Bunch meets each Wednesday from 11:30am–12:30pm in the Fireside Room. All are welcome to join!
URL:https://stpaulswatertown.com/event/lunch-bunch-2/2026-10-28/
LOCATION:St. Paul’s Lutheran Church\, 505 Westminster Ave SW\, Watertown\, Minnesota\, 55388
ATTACH;FMTTYPE=image/webp:https://stpaulswatertown.com/wp-content/uploads/2024/11/lunch-bunch.webp
END:VEVENT
BEGIN:VEVENT
DTSTART;TZID=America/Chicago:20261104T113000
DTEND;TZID=America/Chicago:20261104T123000
DTSTAMP:20260419T225143
CREATED:20250120T032507Z
LAST-MODIFIED:20250918T020250Z
UID:10000133-1793791800-1793795400@stpaulswatertown.com
SUMMARY:Lunch Bunch
DESCRIPTION:Weekly Bible Study with Pastor George \nBring your lunch and join us as we discover how the Bible came to be. \nThe Lunch Bunch meets each Wednesday from 11:30am–12:30pm in the Fireside Room. All are welcome to join!
URL:https://stpaulswatertown.com/event/lunch-bunch-2/2026-11-04/
LOCATION:St. Paul’s Lutheran Church\, 505 Westminster Ave SW\, Watertown\, Minnesota\, 55388
ATTACH;FMTTYPE=image/webp:https://stpaulswatertown.com/wp-content/uploads/2024/11/lunch-bunch.webp
END:VEVENT
BEGIN:VEVENT
DTSTART;TZID=America/Chicago:20261111T113000
DTEND;TZID=America/Chicago:20261111T123000
DTSTAMP:20260419T225143
CREATED:20250120T032507Z
LAST-MODIFIED:20250918T020250Z
UID:10000134-1794396600-1794400200@stpaulswatertown.com
SUMMARY:Lunch Bunch
DESCRIPTION:Weekly Bible Study with Pastor George \nBring your lunch and join us as we discover how the Bible came to be. \nThe Lunch Bunch meets each Wednesday from 11:30am–12:30pm in the Fireside Room. All are welcome to join!
URL:https://stpaulswatertown.com/event/lunch-bunch-2/2026-11-11/
LOCATION:St. Paul’s Lutheran Church\, 505 Westminster Ave SW\, Watertown\, Minnesota\, 55388
ATTACH;FMTTYPE=image/webp:https://stpaulswatertown.com/wp-content/uploads/2024/11/lunch-bunch.webp
END:VEVENT
END:VCALENDAR