BEGIN:VCALENDAR
VERSION:2.0
PRODID:-//St. Pauls Lutheran Church - ECPv6.15.20//NONSGML v1.0//EN
CALSCALE:GREGORIAN
METHOD:PUBLISH
X-WR-CALNAME:St. Pauls Lutheran Church
X-ORIGINAL-URL:https://stpaulswatertown.com
X-WR-CALDESC:Events for St. Pauls Lutheran Church
REFRESH-INTERVAL;VALUE=DURATION:PT1H
X-Robots-Tag:noindex
X-PUBLISHED-TTL:PT1H
BEGIN:VTIMEZONE
TZID:America/Chicago
BEGIN:DAYLIGHT
TZOFFSETFROM:-0600
TZOFFSETTO:-0500
TZNAME:CDT
DTSTART:20250309T080000
END:DAYLIGHT
BEGIN:STANDARD
TZOFFSETFROM:-0500
TZOFFSETTO:-0600
TZNAME:CST
DTSTART:20251102T070000
END:STANDARD
BEGIN:DAYLIGHT
TZOFFSETFROM:-0600
TZOFFSETTO:-0500
TZNAME:CDT
DTSTART:20260308T080000
END:DAYLIGHT
BEGIN:STANDARD
TZOFFSETFROM:-0500
TZOFFSETTO:-0600
TZNAME:CST
DTSTART:20261101T070000
END:STANDARD
BEGIN:DAYLIGHT
TZOFFSETFROM:-0600
TZOFFSETTO:-0500
TZNAME:CDT
DTSTART:20270314T080000
END:DAYLIGHT
BEGIN:STANDARD
TZOFFSETFROM:-0500
TZOFFSETTO:-0600
TZNAME:CST
DTSTART:20271107T070000
END:STANDARD
END:VTIMEZONE
BEGIN:VEVENT
DTSTART;TZID=America/Chicago:20260501T070000
DTEND;TZID=America/Chicago:20260501T080000
DTSTAMP:20260424T084759
CREATED:20250212T040409Z
LAST-MODIFIED:20250918T020338Z
UID:10000442-1777618800-1777622400@stpaulswatertown.com
SUMMARY:Men's Bible Study
DESCRIPTION:All are welcome! Join us in the Fireside Room for weekly men’s Bible study and fellowship as we delve into the lectionary readings for the upcoming Sunday service.\n\nQuestions? See Steve N.\, Richard S.\, or Zach B. for details.
URL:https://stpaulswatertown.com/event/mens-bible-study/2026-05-01/
LOCATION:St. Paul’s Lutheran Church\, 505 Westminster Ave SW\, Watertown\, Minnesota\, 55388
ATTACH;FMTTYPE=image/webp:https://stpaulswatertown.com/wp-content/uploads/2025/02/mens-bible-study.webp
END:VEVENT
BEGIN:VEVENT
DTSTART;TZID=America/Chicago:20260508T070000
DTEND;TZID=America/Chicago:20260508T080000
DTSTAMP:20260424T084759
CREATED:20250212T040409Z
LAST-MODIFIED:20250918T020338Z
UID:10000443-1778223600-1778227200@stpaulswatertown.com
SUMMARY:Men's Bible Study
DESCRIPTION:All are welcome! Join us in the Fireside Room for weekly men’s Bible study and fellowship as we delve into the lectionary readings for the upcoming Sunday service.\n\nQuestions? See Steve N.\, Richard S.\, or Zach B. for details.
URL:https://stpaulswatertown.com/event/mens-bible-study/2026-05-08/
LOCATION:St. Paul’s Lutheran Church\, 505 Westminster Ave SW\, Watertown\, Minnesota\, 55388
ATTACH;FMTTYPE=image/webp:https://stpaulswatertown.com/wp-content/uploads/2025/02/mens-bible-study.webp
END:VEVENT
BEGIN:VEVENT
DTSTART;TZID=America/Chicago:20260515T070000
DTEND;TZID=America/Chicago:20260515T080000
DTSTAMP:20260424T084759
CREATED:20250212T040409Z
LAST-MODIFIED:20250918T020338Z
UID:10000444-1778828400-1778832000@stpaulswatertown.com
SUMMARY:Men's Bible Study
DESCRIPTION:All are welcome! Join us in the Fireside Room for weekly men’s Bible study and fellowship as we delve into the lectionary readings for the upcoming Sunday service.\n\nQuestions? See Steve N.\, Richard S.\, or Zach B. for details.
URL:https://stpaulswatertown.com/event/mens-bible-study/2026-05-15/
LOCATION:St. Paul’s Lutheran Church\, 505 Westminster Ave SW\, Watertown\, Minnesota\, 55388
ATTACH;FMTTYPE=image/webp:https://stpaulswatertown.com/wp-content/uploads/2025/02/mens-bible-study.webp
END:VEVENT
BEGIN:VEVENT
DTSTART;TZID=America/Chicago:20260522T070000
DTEND;TZID=America/Chicago:20260522T080000
DTSTAMP:20260424T084759
CREATED:20250212T040409Z
LAST-MODIFIED:20250918T020338Z
UID:10000445-1779433200-1779436800@stpaulswatertown.com
SUMMARY:Men's Bible Study
DESCRIPTION:All are welcome! Join us in the Fireside Room for weekly men’s Bible study and fellowship as we delve into the lectionary readings for the upcoming Sunday service.\n\nQuestions? See Steve N.\, Richard S.\, or Zach B. for details.
URL:https://stpaulswatertown.com/event/mens-bible-study/2026-05-22/
LOCATION:St. Paul’s Lutheran Church\, 505 Westminster Ave SW\, Watertown\, Minnesota\, 55388
ATTACH;FMTTYPE=image/webp:https://stpaulswatertown.com/wp-content/uploads/2025/02/mens-bible-study.webp
END:VEVENT
BEGIN:VEVENT
DTSTART;TZID=America/Chicago:20260529T070000
DTEND;TZID=America/Chicago:20260529T080000
DTSTAMP:20260424T084759
CREATED:20250212T040409Z
LAST-MODIFIED:20250918T020338Z
UID:10000446-1780038000-1780041600@stpaulswatertown.com
SUMMARY:Men's Bible Study
DESCRIPTION:All are welcome! Join us in the Fireside Room for weekly men’s Bible study and fellowship as we delve into the lectionary readings for the upcoming Sunday service.\n\nQuestions? See Steve N.\, Richard S.\, or Zach B. for details.
URL:https://stpaulswatertown.com/event/mens-bible-study/2026-05-29/
LOCATION:St. Paul’s Lutheran Church\, 505 Westminster Ave SW\, Watertown\, Minnesota\, 55388
ATTACH;FMTTYPE=image/webp:https://stpaulswatertown.com/wp-content/uploads/2025/02/mens-bible-study.webp
END:VEVENT
BEGIN:VEVENT
DTSTART;TZID=America/Chicago:20260605T070000
DTEND;TZID=America/Chicago:20260605T080000
DTSTAMP:20260424T084759
CREATED:20250212T040409Z
LAST-MODIFIED:20250918T020338Z
UID:10000447-1780642800-1780646400@stpaulswatertown.com
SUMMARY:Men's Bible Study
DESCRIPTION:All are welcome! Join us in the Fireside Room for weekly men’s Bible study and fellowship as we delve into the lectionary readings for the upcoming Sunday service.\n\nQuestions? See Steve N.\, Richard S.\, or Zach B. for details.
URL:https://stpaulswatertown.com/event/mens-bible-study/2026-06-05/
LOCATION:St. Paul’s Lutheran Church\, 505 Westminster Ave SW\, Watertown\, Minnesota\, 55388
ATTACH;FMTTYPE=image/webp:https://stpaulswatertown.com/wp-content/uploads/2025/02/mens-bible-study.webp
END:VEVENT
BEGIN:VEVENT
DTSTART;TZID=America/Chicago:20260612T070000
DTEND;TZID=America/Chicago:20260612T080000
DTSTAMP:20260424T084759
CREATED:20250212T040409Z
LAST-MODIFIED:20250918T020338Z
UID:10000448-1781247600-1781251200@stpaulswatertown.com
SUMMARY:Men's Bible Study
DESCRIPTION:All are welcome! Join us in the Fireside Room for weekly men’s Bible study and fellowship as we delve into the lectionary readings for the upcoming Sunday service.\n\nQuestions? See Steve N.\, Richard S.\, or Zach B. for details.
URL:https://stpaulswatertown.com/event/mens-bible-study/2026-06-12/
LOCATION:St. Paul’s Lutheran Church\, 505 Westminster Ave SW\, Watertown\, Minnesota\, 55388
ATTACH;FMTTYPE=image/webp:https://stpaulswatertown.com/wp-content/uploads/2025/02/mens-bible-study.webp
END:VEVENT
BEGIN:VEVENT
DTSTART;TZID=America/Chicago:20260619T070000
DTEND;TZID=America/Chicago:20260619T080000
DTSTAMP:20260424T084759
CREATED:20250212T040409Z
LAST-MODIFIED:20250918T020338Z
UID:10000449-1781852400-1781856000@stpaulswatertown.com
SUMMARY:Men's Bible Study
DESCRIPTION:All are welcome! Join us in the Fireside Room for weekly men’s Bible study and fellowship as we delve into the lectionary readings for the upcoming Sunday service.\n\nQuestions? See Steve N.\, Richard S.\, or Zach B. for details.
URL:https://stpaulswatertown.com/event/mens-bible-study/2026-06-19/
LOCATION:St. Paul’s Lutheran Church\, 505 Westminster Ave SW\, Watertown\, Minnesota\, 55388
ATTACH;FMTTYPE=image/webp:https://stpaulswatertown.com/wp-content/uploads/2025/02/mens-bible-study.webp
END:VEVENT
BEGIN:VEVENT
DTSTART;TZID=America/Chicago:20260626T070000
DTEND;TZID=America/Chicago:20260626T080000
DTSTAMP:20260424T084759
CREATED:20250212T040409Z
LAST-MODIFIED:20250918T020338Z
UID:10000450-1782457200-1782460800@stpaulswatertown.com
SUMMARY:Men's Bible Study
DESCRIPTION:All are welcome! Join us in the Fireside Room for weekly men’s Bible study and fellowship as we delve into the lectionary readings for the upcoming Sunday service.\n\nQuestions? See Steve N.\, Richard S.\, or Zach B. for details.
URL:https://stpaulswatertown.com/event/mens-bible-study/2026-06-26/
LOCATION:St. Paul’s Lutheran Church\, 505 Westminster Ave SW\, Watertown\, Minnesota\, 55388
ATTACH;FMTTYPE=image/webp:https://stpaulswatertown.com/wp-content/uploads/2025/02/mens-bible-study.webp
END:VEVENT
BEGIN:VEVENT
DTSTART;TZID=America/Chicago:20260703T070000
DTEND;TZID=America/Chicago:20260703T080000
DTSTAMP:20260424T084759
CREATED:20250212T040409Z
LAST-MODIFIED:20250918T020338Z
UID:10000451-1783062000-1783065600@stpaulswatertown.com
SUMMARY:Men's Bible Study
DESCRIPTION:All are welcome! Join us in the Fireside Room for weekly men’s Bible study and fellowship as we delve into the lectionary readings for the upcoming Sunday service.\n\nQuestions? See Steve N.\, Richard S.\, or Zach B. for details.
URL:https://stpaulswatertown.com/event/mens-bible-study/2026-07-03/
LOCATION:St. Paul’s Lutheran Church\, 505 Westminster Ave SW\, Watertown\, Minnesota\, 55388
ATTACH;FMTTYPE=image/webp:https://stpaulswatertown.com/wp-content/uploads/2025/02/mens-bible-study.webp
END:VEVENT
BEGIN:VEVENT
DTSTART;TZID=America/Chicago:20260710T070000
DTEND;TZID=America/Chicago:20260710T080000
DTSTAMP:20260424T084759
CREATED:20250212T040409Z
LAST-MODIFIED:20250918T020338Z
UID:10000452-1783666800-1783670400@stpaulswatertown.com
SUMMARY:Men's Bible Study
DESCRIPTION:All are welcome! Join us in the Fireside Room for weekly men’s Bible study and fellowship as we delve into the lectionary readings for the upcoming Sunday service.\n\nQuestions? See Steve N.\, Richard S.\, or Zach B. for details.
URL:https://stpaulswatertown.com/event/mens-bible-study/2026-07-10/
LOCATION:St. Paul’s Lutheran Church\, 505 Westminster Ave SW\, Watertown\, Minnesota\, 55388
ATTACH;FMTTYPE=image/webp:https://stpaulswatertown.com/wp-content/uploads/2025/02/mens-bible-study.webp
END:VEVENT
BEGIN:VEVENT
DTSTART;TZID=America/Chicago:20260717T070000
DTEND;TZID=America/Chicago:20260717T080000
DTSTAMP:20260424T084759
CREATED:20250212T040409Z
LAST-MODIFIED:20250918T020338Z
UID:10000453-1784271600-1784275200@stpaulswatertown.com
SUMMARY:Men's Bible Study
DESCRIPTION:All are welcome! Join us in the Fireside Room for weekly men’s Bible study and fellowship as we delve into the lectionary readings for the upcoming Sunday service.\n\nQuestions? See Steve N.\, Richard S.\, or Zach B. for details.
URL:https://stpaulswatertown.com/event/mens-bible-study/2026-07-17/
LOCATION:St. Paul’s Lutheran Church\, 505 Westminster Ave SW\, Watertown\, Minnesota\, 55388
ATTACH;FMTTYPE=image/webp:https://stpaulswatertown.com/wp-content/uploads/2025/02/mens-bible-study.webp
END:VEVENT
BEGIN:VEVENT
DTSTART;TZID=America/Chicago:20260724T070000
DTEND;TZID=America/Chicago:20260724T080000
DTSTAMP:20260424T084759
CREATED:20250212T040409Z
LAST-MODIFIED:20250918T020338Z
UID:10000454-1784876400-1784880000@stpaulswatertown.com
SUMMARY:Men's Bible Study
DESCRIPTION:All are welcome! Join us in the Fireside Room for weekly men’s Bible study and fellowship as we delve into the lectionary readings for the upcoming Sunday service.\n\nQuestions? See Steve N.\, Richard S.\, or Zach B. for details.
URL:https://stpaulswatertown.com/event/mens-bible-study/2026-07-24/
LOCATION:St. Paul’s Lutheran Church\, 505 Westminster Ave SW\, Watertown\, Minnesota\, 55388
ATTACH;FMTTYPE=image/webp:https://stpaulswatertown.com/wp-content/uploads/2025/02/mens-bible-study.webp
END:VEVENT
BEGIN:VEVENT
DTSTART;TZID=America/Chicago:20260731T070000
DTEND;TZID=America/Chicago:20260731T080000
DTSTAMP:20260424T084759
CREATED:20250212T040409Z
LAST-MODIFIED:20250918T020338Z
UID:10000455-1785481200-1785484800@stpaulswatertown.com
SUMMARY:Men's Bible Study
DESCRIPTION:All are welcome! Join us in the Fireside Room for weekly men’s Bible study and fellowship as we delve into the lectionary readings for the upcoming Sunday service.\n\nQuestions? See Steve N.\, Richard S.\, or Zach B. for details.
URL:https://stpaulswatertown.com/event/mens-bible-study/2026-07-31/
LOCATION:St. Paul’s Lutheran Church\, 505 Westminster Ave SW\, Watertown\, Minnesota\, 55388
ATTACH;FMTTYPE=image/webp:https://stpaulswatertown.com/wp-content/uploads/2025/02/mens-bible-study.webp
END:VEVENT
BEGIN:VEVENT
DTSTART;TZID=America/Chicago:20260807T070000
DTEND;TZID=America/Chicago:20260807T080000
DTSTAMP:20260424T084759
CREATED:20250212T040409Z
LAST-MODIFIED:20250918T020338Z
UID:10000456-1786086000-1786089600@stpaulswatertown.com
SUMMARY:Men's Bible Study
DESCRIPTION:All are welcome! Join us in the Fireside Room for weekly men’s Bible study and fellowship as we delve into the lectionary readings for the upcoming Sunday service.\n\nQuestions? See Steve N.\, Richard S.\, or Zach B. for details.
URL:https://stpaulswatertown.com/event/mens-bible-study/2026-08-07/
LOCATION:St. Paul’s Lutheran Church\, 505 Westminster Ave SW\, Watertown\, Minnesota\, 55388
ATTACH;FMTTYPE=image/webp:https://stpaulswatertown.com/wp-content/uploads/2025/02/mens-bible-study.webp
END:VEVENT
BEGIN:VEVENT
DTSTART;TZID=America/Chicago:20260814T070000
DTEND;TZID=America/Chicago:20260814T080000
DTSTAMP:20260424T084759
CREATED:20250212T040409Z
LAST-MODIFIED:20250918T020338Z
UID:10000457-1786690800-1786694400@stpaulswatertown.com
SUMMARY:Men's Bible Study
DESCRIPTION:All are welcome! Join us in the Fireside Room for weekly men’s Bible study and fellowship as we delve into the lectionary readings for the upcoming Sunday service.\n\nQuestions? See Steve N.\, Richard S.\, or Zach B. for details.
URL:https://stpaulswatertown.com/event/mens-bible-study/2026-08-14/
LOCATION:St. Paul’s Lutheran Church\, 505 Westminster Ave SW\, Watertown\, Minnesota\, 55388
ATTACH;FMTTYPE=image/webp:https://stpaulswatertown.com/wp-content/uploads/2025/02/mens-bible-study.webp
END:VEVENT
BEGIN:VEVENT
DTSTART;TZID=America/Chicago:20260821T070000
DTEND;TZID=America/Chicago:20260821T080000
DTSTAMP:20260424T084759
CREATED:20250212T040409Z
LAST-MODIFIED:20250918T020338Z
UID:10000458-1787295600-1787299200@stpaulswatertown.com
SUMMARY:Men's Bible Study
DESCRIPTION:All are welcome! Join us in the Fireside Room for weekly men’s Bible study and fellowship as we delve into the lectionary readings for the upcoming Sunday service.\n\nQuestions? See Steve N.\, Richard S.\, or Zach B. for details.
URL:https://stpaulswatertown.com/event/mens-bible-study/2026-08-21/
LOCATION:St. Paul’s Lutheran Church\, 505 Westminster Ave SW\, Watertown\, Minnesota\, 55388
ATTACH;FMTTYPE=image/webp:https://stpaulswatertown.com/wp-content/uploads/2025/02/mens-bible-study.webp
END:VEVENT
BEGIN:VEVENT
DTSTART;TZID=America/Chicago:20260828T070000
DTEND;TZID=America/Chicago:20260828T080000
DTSTAMP:20260424T084759
CREATED:20250212T040409Z
LAST-MODIFIED:20250918T020338Z
UID:10000459-1787900400-1787904000@stpaulswatertown.com
SUMMARY:Men's Bible Study
DESCRIPTION:All are welcome! Join us in the Fireside Room for weekly men’s Bible study and fellowship as we delve into the lectionary readings for the upcoming Sunday service.\n\nQuestions? See Steve N.\, Richard S.\, or Zach B. for details.
URL:https://stpaulswatertown.com/event/mens-bible-study/2026-08-28/
LOCATION:St. Paul’s Lutheran Church\, 505 Westminster Ave SW\, Watertown\, Minnesota\, 55388
ATTACH;FMTTYPE=image/webp:https://stpaulswatertown.com/wp-content/uploads/2025/02/mens-bible-study.webp
END:VEVENT
BEGIN:VEVENT
DTSTART;TZID=America/Chicago:20260904T070000
DTEND;TZID=America/Chicago:20260904T080000
DTSTAMP:20260424T084759
CREATED:20250212T040409Z
LAST-MODIFIED:20250918T020338Z
UID:10000460-1788505200-1788508800@stpaulswatertown.com
SUMMARY:Men's Bible Study
DESCRIPTION:All are welcome! Join us in the Fireside Room for weekly men’s Bible study and fellowship as we delve into the lectionary readings for the upcoming Sunday service.\n\nQuestions? See Steve N.\, Richard S.\, or Zach B. for details.
URL:https://stpaulswatertown.com/event/mens-bible-study/2026-09-04/
LOCATION:St. Paul’s Lutheran Church\, 505 Westminster Ave SW\, Watertown\, Minnesota\, 55388
ATTACH;FMTTYPE=image/webp:https://stpaulswatertown.com/wp-content/uploads/2025/02/mens-bible-study.webp
END:VEVENT
BEGIN:VEVENT
DTSTART;TZID=America/Chicago:20260911T070000
DTEND;TZID=America/Chicago:20260911T080000
DTSTAMP:20260424T084759
CREATED:20250212T040409Z
LAST-MODIFIED:20250918T020338Z
UID:10000461-1789110000-1789113600@stpaulswatertown.com
SUMMARY:Men's Bible Study
DESCRIPTION:All are welcome! Join us in the Fireside Room for weekly men’s Bible study and fellowship as we delve into the lectionary readings for the upcoming Sunday service.\n\nQuestions? See Steve N.\, Richard S.\, or Zach B. for details.
URL:https://stpaulswatertown.com/event/mens-bible-study/2026-09-11/
LOCATION:St. Paul’s Lutheran Church\, 505 Westminster Ave SW\, Watertown\, Minnesota\, 55388
ATTACH;FMTTYPE=image/webp:https://stpaulswatertown.com/wp-content/uploads/2025/02/mens-bible-study.webp
END:VEVENT
BEGIN:VEVENT
DTSTART;TZID=America/Chicago:20260918T070000
DTEND;TZID=America/Chicago:20260918T080000
DTSTAMP:20260424T084759
CREATED:20250212T040409Z
LAST-MODIFIED:20250918T020338Z
UID:10000462-1789714800-1789718400@stpaulswatertown.com
SUMMARY:Men's Bible Study
DESCRIPTION:All are welcome! Join us in the Fireside Room for weekly men’s Bible study and fellowship as we delve into the lectionary readings for the upcoming Sunday service.\n\nQuestions? See Steve N.\, Richard S.\, or Zach B. for details.
URL:https://stpaulswatertown.com/event/mens-bible-study/2026-09-18/
LOCATION:St. Paul’s Lutheran Church\, 505 Westminster Ave SW\, Watertown\, Minnesota\, 55388
ATTACH;FMTTYPE=image/webp:https://stpaulswatertown.com/wp-content/uploads/2025/02/mens-bible-study.webp
END:VEVENT
BEGIN:VEVENT
DTSTART;TZID=America/Chicago:20260925T070000
DTEND;TZID=America/Chicago:20260925T080000
DTSTAMP:20260424T084759
CREATED:20250212T040409Z
LAST-MODIFIED:20250918T020338Z
UID:10000463-1790319600-1790323200@stpaulswatertown.com
SUMMARY:Men's Bible Study
DESCRIPTION:All are welcome! Join us in the Fireside Room for weekly men’s Bible study and fellowship as we delve into the lectionary readings for the upcoming Sunday service.\n\nQuestions? See Steve N.\, Richard S.\, or Zach B. for details.
URL:https://stpaulswatertown.com/event/mens-bible-study/2026-09-25/
LOCATION:St. Paul’s Lutheran Church\, 505 Westminster Ave SW\, Watertown\, Minnesota\, 55388
ATTACH;FMTTYPE=image/webp:https://stpaulswatertown.com/wp-content/uploads/2025/02/mens-bible-study.webp
END:VEVENT
BEGIN:VEVENT
DTSTART;TZID=America/Chicago:20261002T070000
DTEND;TZID=America/Chicago:20261002T080000
DTSTAMP:20260424T084759
CREATED:20250212T040409Z
LAST-MODIFIED:20250918T020338Z
UID:10000464-1790924400-1790928000@stpaulswatertown.com
SUMMARY:Men's Bible Study
DESCRIPTION:All are welcome! Join us in the Fireside Room for weekly men’s Bible study and fellowship as we delve into the lectionary readings for the upcoming Sunday service.\n\nQuestions? See Steve N.\, Richard S.\, or Zach B. for details.
URL:https://stpaulswatertown.com/event/mens-bible-study/2026-10-02/
LOCATION:St. Paul’s Lutheran Church\, 505 Westminster Ave SW\, Watertown\, Minnesota\, 55388
ATTACH;FMTTYPE=image/webp:https://stpaulswatertown.com/wp-content/uploads/2025/02/mens-bible-study.webp
END:VEVENT
BEGIN:VEVENT
DTSTART;TZID=America/Chicago:20261009T070000
DTEND;TZID=America/Chicago:20261009T080000
DTSTAMP:20260424T084759
CREATED:20250212T040409Z
LAST-MODIFIED:20250918T020338Z
UID:10000465-1791529200-1791532800@stpaulswatertown.com
SUMMARY:Men's Bible Study
DESCRIPTION:All are welcome! Join us in the Fireside Room for weekly men’s Bible study and fellowship as we delve into the lectionary readings for the upcoming Sunday service.\n\nQuestions? See Steve N.\, Richard S.\, or Zach B. for details.
URL:https://stpaulswatertown.com/event/mens-bible-study/2026-10-09/
LOCATION:St. Paul’s Lutheran Church\, 505 Westminster Ave SW\, Watertown\, Minnesota\, 55388
ATTACH;FMTTYPE=image/webp:https://stpaulswatertown.com/wp-content/uploads/2025/02/mens-bible-study.webp
END:VEVENT
BEGIN:VEVENT
DTSTART;TZID=America/Chicago:20261016T070000
DTEND;TZID=America/Chicago:20261016T080000
DTSTAMP:20260424T084759
CREATED:20250212T040409Z
LAST-MODIFIED:20250918T020338Z
UID:10000466-1792134000-1792137600@stpaulswatertown.com
SUMMARY:Men's Bible Study
DESCRIPTION:All are welcome! Join us in the Fireside Room for weekly men’s Bible study and fellowship as we delve into the lectionary readings for the upcoming Sunday service.\n\nQuestions? See Steve N.\, Richard S.\, or Zach B. for details.
URL:https://stpaulswatertown.com/event/mens-bible-study/2026-10-16/
LOCATION:St. Paul’s Lutheran Church\, 505 Westminster Ave SW\, Watertown\, Minnesota\, 55388
ATTACH;FMTTYPE=image/webp:https://stpaulswatertown.com/wp-content/uploads/2025/02/mens-bible-study.webp
END:VEVENT
BEGIN:VEVENT
DTSTART;TZID=America/Chicago:20261023T070000
DTEND;TZID=America/Chicago:20261023T080000
DTSTAMP:20260424T084759
CREATED:20250212T040409Z
LAST-MODIFIED:20250918T020338Z
UID:10000467-1792738800-1792742400@stpaulswatertown.com
SUMMARY:Men's Bible Study
DESCRIPTION:All are welcome! Join us in the Fireside Room for weekly men’s Bible study and fellowship as we delve into the lectionary readings for the upcoming Sunday service.\n\nQuestions? See Steve N.\, Richard S.\, or Zach B. for details.
URL:https://stpaulswatertown.com/event/mens-bible-study/2026-10-23/
LOCATION:St. Paul’s Lutheran Church\, 505 Westminster Ave SW\, Watertown\, Minnesota\, 55388
ATTACH;FMTTYPE=image/webp:https://stpaulswatertown.com/wp-content/uploads/2025/02/mens-bible-study.webp
END:VEVENT
BEGIN:VEVENT
DTSTART;TZID=America/Chicago:20261030T070000
DTEND;TZID=America/Chicago:20261030T080000
DTSTAMP:20260424T084759
CREATED:20250212T040409Z
LAST-MODIFIED:20250918T020338Z
UID:10000468-1793343600-1793347200@stpaulswatertown.com
SUMMARY:Men's Bible Study
DESCRIPTION:All are welcome! Join us in the Fireside Room for weekly men’s Bible study and fellowship as we delve into the lectionary readings for the upcoming Sunday service.\n\nQuestions? See Steve N.\, Richard S.\, or Zach B. for details.
URL:https://stpaulswatertown.com/event/mens-bible-study/2026-10-30/
LOCATION:St. Paul’s Lutheran Church\, 505 Westminster Ave SW\, Watertown\, Minnesota\, 55388
ATTACH;FMTTYPE=image/webp:https://stpaulswatertown.com/wp-content/uploads/2025/02/mens-bible-study.webp
END:VEVENT
BEGIN:VEVENT
DTSTART;TZID=America/Chicago:20261106T070000
DTEND;TZID=America/Chicago:20261106T080000
DTSTAMP:20260424T084759
CREATED:20250212T040409Z
LAST-MODIFIED:20250918T020338Z
UID:10000469-1793948400-1793952000@stpaulswatertown.com
SUMMARY:Men's Bible Study
DESCRIPTION:All are welcome! Join us in the Fireside Room for weekly men’s Bible study and fellowship as we delve into the lectionary readings for the upcoming Sunday service.\n\nQuestions? See Steve N.\, Richard S.\, or Zach B. for details.
URL:https://stpaulswatertown.com/event/mens-bible-study/2026-11-06/
LOCATION:St. Paul’s Lutheran Church\, 505 Westminster Ave SW\, Watertown\, Minnesota\, 55388
ATTACH;FMTTYPE=image/webp:https://stpaulswatertown.com/wp-content/uploads/2025/02/mens-bible-study.webp
END:VEVENT
BEGIN:VEVENT
DTSTART;TZID=America/Chicago:20261113T070000
DTEND;TZID=America/Chicago:20261113T080000
DTSTAMP:20260424T084759
CREATED:20250212T040409Z
LAST-MODIFIED:20250918T020338Z
UID:10000470-1794553200-1794556800@stpaulswatertown.com
SUMMARY:Men's Bible Study
DESCRIPTION:All are welcome! Join us in the Fireside Room for weekly men’s Bible study and fellowship as we delve into the lectionary readings for the upcoming Sunday service.\n\nQuestions? See Steve N.\, Richard S.\, or Zach B. for details.
URL:https://stpaulswatertown.com/event/mens-bible-study/2026-11-13/
LOCATION:St. Paul’s Lutheran Church\, 505 Westminster Ave SW\, Watertown\, Minnesota\, 55388
ATTACH;FMTTYPE=image/webp:https://stpaulswatertown.com/wp-content/uploads/2025/02/mens-bible-study.webp
END:VEVENT
BEGIN:VEVENT
DTSTART;TZID=America/Chicago:20261120T070000
DTEND;TZID=America/Chicago:20261120T080000
DTSTAMP:20260424T084759
CREATED:20250212T040409Z
LAST-MODIFIED:20250918T020338Z
UID:10000471-1795158000-1795161600@stpaulswatertown.com
SUMMARY:Men's Bible Study
DESCRIPTION:All are welcome! Join us in the Fireside Room for weekly men’s Bible study and fellowship as we delve into the lectionary readings for the upcoming Sunday service.\n\nQuestions? See Steve N.\, Richard S.\, or Zach B. for details.
URL:https://stpaulswatertown.com/event/mens-bible-study/2026-11-20/
LOCATION:St. Paul’s Lutheran Church\, 505 Westminster Ave SW\, Watertown\, Minnesota\, 55388
ATTACH;FMTTYPE=image/webp:https://stpaulswatertown.com/wp-content/uploads/2025/02/mens-bible-study.webp
END:VEVENT
END:VCALENDAR