BEGIN:VCALENDAR
VERSION:2.0
PRODID:-//St. Pauls Lutheran Church - ECPv6.15.20//NONSGML v1.0//EN
CALSCALE:GREGORIAN
METHOD:PUBLISH
X-WR-CALNAME:St. Pauls Lutheran Church
X-ORIGINAL-URL:https://stpaulswatertown.com
X-WR-CALDESC:Events for St. Pauls Lutheran Church
REFRESH-INTERVAL;VALUE=DURATION:PT1H
X-Robots-Tag:noindex
X-PUBLISHED-TTL:PT1H
BEGIN:VTIMEZONE
TZID:America/Chicago
BEGIN:DAYLIGHT
TZOFFSETFROM:-0600
TZOFFSETTO:-0500
TZNAME:CDT
DTSTART:20250309T080000
END:DAYLIGHT
BEGIN:STANDARD
TZOFFSETFROM:-0500
TZOFFSETTO:-0600
TZNAME:CST
DTSTART:20251102T070000
END:STANDARD
BEGIN:DAYLIGHT
TZOFFSETFROM:-0600
TZOFFSETTO:-0500
TZNAME:CDT
DTSTART:20260308T080000
END:DAYLIGHT
BEGIN:STANDARD
TZOFFSETFROM:-0500
TZOFFSETTO:-0600
TZNAME:CST
DTSTART:20261101T070000
END:STANDARD
BEGIN:DAYLIGHT
TZOFFSETFROM:-0600
TZOFFSETTO:-0500
TZNAME:CDT
DTSTART:20270314T080000
END:DAYLIGHT
BEGIN:STANDARD
TZOFFSETFROM:-0500
TZOFFSETTO:-0600
TZNAME:CST
DTSTART:20271107T070000
END:STANDARD
END:VTIMEZONE
BEGIN:VEVENT
DTSTART;TZID=America/Chicago:20260422T173000
DTEND;TZID=America/Chicago:20260422T193000
DTSTAMP:20260419T225251
CREATED:20241009T035333Z
LAST-MODIFIED:20250918T021947Z
UID:10001572-1776879000-1776886200@stpaulswatertown.com
SUMMARY:SPYRIT
DESCRIPTION:SPYRIT: St. Paul’s Youth Rooted in Truth\n\nGrades 7-12 are welcome to join us every Wednesday for dinner\, activities\, devotion\, homework support and so much more! We encourage you to bring a friend!
URL:https://stpaulswatertown.com/event/spyrit/2026-04-22/
LOCATION:St. Paul’s Lutheran Church\, 505 Westminster Ave SW\, Watertown\, Minnesota\, 55388
CATEGORIES:Fellowship
ATTACH;FMTTYPE=image/webp:https://stpaulswatertown.com/wp-content/uploads/2024/05/SPYRIT_events.webp
END:VEVENT
BEGIN:VEVENT
DTSTART;TZID=America/Chicago:20260429T173000
DTEND;TZID=America/Chicago:20260429T193000
DTSTAMP:20260419T225251
CREATED:20241009T035333Z
LAST-MODIFIED:20250918T021947Z
UID:10001573-1777483800-1777491000@stpaulswatertown.com
SUMMARY:SPYRIT
DESCRIPTION:SPYRIT: St. Paul’s Youth Rooted in Truth\n\nGrades 7-12 are welcome to join us every Wednesday for dinner\, activities\, devotion\, homework support and so much more! We encourage you to bring a friend!
URL:https://stpaulswatertown.com/event/spyrit/2026-04-29/
LOCATION:St. Paul’s Lutheran Church\, 505 Westminster Ave SW\, Watertown\, Minnesota\, 55388
CATEGORIES:Fellowship
ATTACH;FMTTYPE=image/webp:https://stpaulswatertown.com/wp-content/uploads/2024/05/SPYRIT_events.webp
END:VEVENT
BEGIN:VEVENT
DTSTART;TZID=America/Chicago:20260506T173000
DTEND;TZID=America/Chicago:20260506T193000
DTSTAMP:20260419T225251
CREATED:20241009T035333Z
LAST-MODIFIED:20250918T021947Z
UID:10001574-1778088600-1778095800@stpaulswatertown.com
SUMMARY:SPYRIT
DESCRIPTION:SPYRIT: St. Paul’s Youth Rooted in Truth\n\nGrades 7-12 are welcome to join us every Wednesday for dinner\, activities\, devotion\, homework support and so much more! We encourage you to bring a friend!
URL:https://stpaulswatertown.com/event/spyrit/2026-05-06/
LOCATION:St. Paul’s Lutheran Church\, 505 Westminster Ave SW\, Watertown\, Minnesota\, 55388
CATEGORIES:Fellowship
ATTACH;FMTTYPE=image/webp:https://stpaulswatertown.com/wp-content/uploads/2024/05/SPYRIT_events.webp
END:VEVENT
BEGIN:VEVENT
DTSTART;TZID=America/Chicago:20260513T173000
DTEND;TZID=America/Chicago:20260513T193000
DTSTAMP:20260419T225251
CREATED:20241009T035333Z
LAST-MODIFIED:20250918T021947Z
UID:10001575-1778693400-1778700600@stpaulswatertown.com
SUMMARY:SPYRIT
DESCRIPTION:SPYRIT: St. Paul’s Youth Rooted in Truth\n\nGrades 7-12 are welcome to join us every Wednesday for dinner\, activities\, devotion\, homework support and so much more! We encourage you to bring a friend!
URL:https://stpaulswatertown.com/event/spyrit/2026-05-13/
LOCATION:St. Paul’s Lutheran Church\, 505 Westminster Ave SW\, Watertown\, Minnesota\, 55388
CATEGORIES:Fellowship
ATTACH;FMTTYPE=image/webp:https://stpaulswatertown.com/wp-content/uploads/2024/05/SPYRIT_events.webp
END:VEVENT
BEGIN:VEVENT
DTSTART;TZID=America/Chicago:20260520T173000
DTEND;TZID=America/Chicago:20260520T193000
DTSTAMP:20260419T225251
CREATED:20241009T035333Z
LAST-MODIFIED:20250918T021947Z
UID:10001576-1779298200-1779305400@stpaulswatertown.com
SUMMARY:SPYRIT
DESCRIPTION:SPYRIT: St. Paul’s Youth Rooted in Truth\n\nGrades 7-12 are welcome to join us every Wednesday for dinner\, activities\, devotion\, homework support and so much more! We encourage you to bring a friend!
URL:https://stpaulswatertown.com/event/spyrit/2026-05-20/
LOCATION:St. Paul’s Lutheran Church\, 505 Westminster Ave SW\, Watertown\, Minnesota\, 55388
CATEGORIES:Fellowship
ATTACH;FMTTYPE=image/webp:https://stpaulswatertown.com/wp-content/uploads/2024/05/SPYRIT_events.webp
END:VEVENT
BEGIN:VEVENT
DTSTART;TZID=America/Chicago:20260527T173000
DTEND;TZID=America/Chicago:20260527T193000
DTSTAMP:20260419T225251
CREATED:20241009T035333Z
LAST-MODIFIED:20250918T021947Z
UID:10001577-1779903000-1779910200@stpaulswatertown.com
SUMMARY:SPYRIT
DESCRIPTION:SPYRIT: St. Paul’s Youth Rooted in Truth\n\nGrades 7-12 are welcome to join us every Wednesday for dinner\, activities\, devotion\, homework support and so much more! We encourage you to bring a friend!
URL:https://stpaulswatertown.com/event/spyrit/2026-05-27/
LOCATION:St. Paul’s Lutheran Church\, 505 Westminster Ave SW\, Watertown\, Minnesota\, 55388
CATEGORIES:Fellowship
ATTACH;FMTTYPE=image/webp:https://stpaulswatertown.com/wp-content/uploads/2024/05/SPYRIT_events.webp
END:VEVENT
BEGIN:VEVENT
DTSTART;TZID=America/Chicago:20260603T173000
DTEND;TZID=America/Chicago:20260603T193000
DTSTAMP:20260419T225251
CREATED:20241009T035333Z
LAST-MODIFIED:20250918T021947Z
UID:10001578-1780507800-1780515000@stpaulswatertown.com
SUMMARY:SPYRIT
DESCRIPTION:SPYRIT: St. Paul’s Youth Rooted in Truth\n\nGrades 7-12 are welcome to join us every Wednesday for dinner\, activities\, devotion\, homework support and so much more! We encourage you to bring a friend!
URL:https://stpaulswatertown.com/event/spyrit/2026-06-03/
LOCATION:St. Paul’s Lutheran Church\, 505 Westminster Ave SW\, Watertown\, Minnesota\, 55388
CATEGORIES:Fellowship
ATTACH;FMTTYPE=image/webp:https://stpaulswatertown.com/wp-content/uploads/2024/05/SPYRIT_events.webp
END:VEVENT
BEGIN:VEVENT
DTSTART;TZID=America/Chicago:20260610T173000
DTEND;TZID=America/Chicago:20260610T193000
DTSTAMP:20260419T225251
CREATED:20241009T035333Z
LAST-MODIFIED:20250918T021947Z
UID:10001579-1781112600-1781119800@stpaulswatertown.com
SUMMARY:SPYRIT
DESCRIPTION:SPYRIT: St. Paul’s Youth Rooted in Truth\n\nGrades 7-12 are welcome to join us every Wednesday for dinner\, activities\, devotion\, homework support and so much more! We encourage you to bring a friend!
URL:https://stpaulswatertown.com/event/spyrit/2026-06-10/
LOCATION:St. Paul’s Lutheran Church\, 505 Westminster Ave SW\, Watertown\, Minnesota\, 55388
CATEGORIES:Fellowship
ATTACH;FMTTYPE=image/webp:https://stpaulswatertown.com/wp-content/uploads/2024/05/SPYRIT_events.webp
END:VEVENT
BEGIN:VEVENT
DTSTART;TZID=America/Chicago:20260617T173000
DTEND;TZID=America/Chicago:20260617T193000
DTSTAMP:20260419T225251
CREATED:20241009T035333Z
LAST-MODIFIED:20250918T021947Z
UID:10001580-1781717400-1781724600@stpaulswatertown.com
SUMMARY:SPYRIT
DESCRIPTION:SPYRIT: St. Paul’s Youth Rooted in Truth\n\nGrades 7-12 are welcome to join us every Wednesday for dinner\, activities\, devotion\, homework support and so much more! We encourage you to bring a friend!
URL:https://stpaulswatertown.com/event/spyrit/2026-06-17/
LOCATION:St. Paul’s Lutheran Church\, 505 Westminster Ave SW\, Watertown\, Minnesota\, 55388
CATEGORIES:Fellowship
ATTACH;FMTTYPE=image/webp:https://stpaulswatertown.com/wp-content/uploads/2024/05/SPYRIT_events.webp
END:VEVENT
BEGIN:VEVENT
DTSTART;TZID=America/Chicago:20260624T173000
DTEND;TZID=America/Chicago:20260624T193000
DTSTAMP:20260419T225251
CREATED:20241009T035333Z
LAST-MODIFIED:20250918T021947Z
UID:10001581-1782322200-1782329400@stpaulswatertown.com
SUMMARY:SPYRIT
DESCRIPTION:SPYRIT: St. Paul’s Youth Rooted in Truth\n\nGrades 7-12 are welcome to join us every Wednesday for dinner\, activities\, devotion\, homework support and so much more! We encourage you to bring a friend!
URL:https://stpaulswatertown.com/event/spyrit/2026-06-24/
LOCATION:St. Paul’s Lutheran Church\, 505 Westminster Ave SW\, Watertown\, Minnesota\, 55388
CATEGORIES:Fellowship
ATTACH;FMTTYPE=image/webp:https://stpaulswatertown.com/wp-content/uploads/2024/05/SPYRIT_events.webp
END:VEVENT
BEGIN:VEVENT
DTSTART;TZID=America/Chicago:20260701T173000
DTEND;TZID=America/Chicago:20260701T193000
DTSTAMP:20260419T225251
CREATED:20241009T035333Z
LAST-MODIFIED:20250918T021947Z
UID:10001582-1782927000-1782934200@stpaulswatertown.com
SUMMARY:SPYRIT
DESCRIPTION:SPYRIT: St. Paul’s Youth Rooted in Truth\n\nGrades 7-12 are welcome to join us every Wednesday for dinner\, activities\, devotion\, homework support and so much more! We encourage you to bring a friend!
URL:https://stpaulswatertown.com/event/spyrit/2026-07-01/
LOCATION:St. Paul’s Lutheran Church\, 505 Westminster Ave SW\, Watertown\, Minnesota\, 55388
CATEGORIES:Fellowship
ATTACH;FMTTYPE=image/webp:https://stpaulswatertown.com/wp-content/uploads/2024/05/SPYRIT_events.webp
END:VEVENT
BEGIN:VEVENT
DTSTART;TZID=America/Chicago:20260708T173000
DTEND;TZID=America/Chicago:20260708T193000
DTSTAMP:20260419T225251
CREATED:20241009T035333Z
LAST-MODIFIED:20250918T021947Z
UID:10001583-1783531800-1783539000@stpaulswatertown.com
SUMMARY:SPYRIT
DESCRIPTION:SPYRIT: St. Paul’s Youth Rooted in Truth\n\nGrades 7-12 are welcome to join us every Wednesday for dinner\, activities\, devotion\, homework support and so much more! We encourage you to bring a friend!
URL:https://stpaulswatertown.com/event/spyrit/2026-07-08/
LOCATION:St. Paul’s Lutheran Church\, 505 Westminster Ave SW\, Watertown\, Minnesota\, 55388
CATEGORIES:Fellowship
ATTACH;FMTTYPE=image/webp:https://stpaulswatertown.com/wp-content/uploads/2024/05/SPYRIT_events.webp
END:VEVENT
BEGIN:VEVENT
DTSTART;TZID=America/Chicago:20260715T173000
DTEND;TZID=America/Chicago:20260715T193000
DTSTAMP:20260419T225251
CREATED:20241009T035333Z
LAST-MODIFIED:20250918T021947Z
UID:10001584-1784136600-1784143800@stpaulswatertown.com
SUMMARY:SPYRIT
DESCRIPTION:SPYRIT: St. Paul’s Youth Rooted in Truth\n\nGrades 7-12 are welcome to join us every Wednesday for dinner\, activities\, devotion\, homework support and so much more! We encourage you to bring a friend!
URL:https://stpaulswatertown.com/event/spyrit/2026-07-15/
LOCATION:St. Paul’s Lutheran Church\, 505 Westminster Ave SW\, Watertown\, Minnesota\, 55388
CATEGORIES:Fellowship
ATTACH;FMTTYPE=image/webp:https://stpaulswatertown.com/wp-content/uploads/2024/05/SPYRIT_events.webp
END:VEVENT
BEGIN:VEVENT
DTSTART;TZID=America/Chicago:20260722T173000
DTEND;TZID=America/Chicago:20260722T193000
DTSTAMP:20260419T225251
CREATED:20241009T035333Z
LAST-MODIFIED:20250918T021947Z
UID:10001585-1784741400-1784748600@stpaulswatertown.com
SUMMARY:SPYRIT
DESCRIPTION:SPYRIT: St. Paul’s Youth Rooted in Truth\n\nGrades 7-12 are welcome to join us every Wednesday for dinner\, activities\, devotion\, homework support and so much more! We encourage you to bring a friend!
URL:https://stpaulswatertown.com/event/spyrit/2026-07-22/
LOCATION:St. Paul’s Lutheran Church\, 505 Westminster Ave SW\, Watertown\, Minnesota\, 55388
CATEGORIES:Fellowship
ATTACH;FMTTYPE=image/webp:https://stpaulswatertown.com/wp-content/uploads/2024/05/SPYRIT_events.webp
END:VEVENT
BEGIN:VEVENT
DTSTART;TZID=America/Chicago:20260729T173000
DTEND;TZID=America/Chicago:20260729T193000
DTSTAMP:20260419T225251
CREATED:20241009T035333Z
LAST-MODIFIED:20250918T021947Z
UID:10001586-1785346200-1785353400@stpaulswatertown.com
SUMMARY:SPYRIT
DESCRIPTION:SPYRIT: St. Paul’s Youth Rooted in Truth\n\nGrades 7-12 are welcome to join us every Wednesday for dinner\, activities\, devotion\, homework support and so much more! We encourage you to bring a friend!
URL:https://stpaulswatertown.com/event/spyrit/2026-07-29/
LOCATION:St. Paul’s Lutheran Church\, 505 Westminster Ave SW\, Watertown\, Minnesota\, 55388
CATEGORIES:Fellowship
ATTACH;FMTTYPE=image/webp:https://stpaulswatertown.com/wp-content/uploads/2024/05/SPYRIT_events.webp
END:VEVENT
BEGIN:VEVENT
DTSTART;TZID=America/Chicago:20260805T173000
DTEND;TZID=America/Chicago:20260805T193000
DTSTAMP:20260419T225251
CREATED:20241009T035333Z
LAST-MODIFIED:20250918T021947Z
UID:10001587-1785951000-1785958200@stpaulswatertown.com
SUMMARY:SPYRIT
DESCRIPTION:SPYRIT: St. Paul’s Youth Rooted in Truth\n\nGrades 7-12 are welcome to join us every Wednesday for dinner\, activities\, devotion\, homework support and so much more! We encourage you to bring a friend!
URL:https://stpaulswatertown.com/event/spyrit/2026-08-05/
LOCATION:St. Paul’s Lutheran Church\, 505 Westminster Ave SW\, Watertown\, Minnesota\, 55388
CATEGORIES:Fellowship
ATTACH;FMTTYPE=image/webp:https://stpaulswatertown.com/wp-content/uploads/2024/05/SPYRIT_events.webp
END:VEVENT
BEGIN:VEVENT
DTSTART;TZID=America/Chicago:20260812T173000
DTEND;TZID=America/Chicago:20260812T193000
DTSTAMP:20260419T225251
CREATED:20241009T035333Z
LAST-MODIFIED:20250918T021947Z
UID:10001588-1786555800-1786563000@stpaulswatertown.com
SUMMARY:SPYRIT
DESCRIPTION:SPYRIT: St. Paul’s Youth Rooted in Truth\n\nGrades 7-12 are welcome to join us every Wednesday for dinner\, activities\, devotion\, homework support and so much more! We encourage you to bring a friend!
URL:https://stpaulswatertown.com/event/spyrit/2026-08-12/
LOCATION:St. Paul’s Lutheran Church\, 505 Westminster Ave SW\, Watertown\, Minnesota\, 55388
CATEGORIES:Fellowship
ATTACH;FMTTYPE=image/webp:https://stpaulswatertown.com/wp-content/uploads/2024/05/SPYRIT_events.webp
END:VEVENT
BEGIN:VEVENT
DTSTART;TZID=America/Chicago:20260819T173000
DTEND;TZID=America/Chicago:20260819T193000
DTSTAMP:20260419T225251
CREATED:20241009T035333Z
LAST-MODIFIED:20250918T021947Z
UID:10001589-1787160600-1787167800@stpaulswatertown.com
SUMMARY:SPYRIT
DESCRIPTION:SPYRIT: St. Paul’s Youth Rooted in Truth\n\nGrades 7-12 are welcome to join us every Wednesday for dinner\, activities\, devotion\, homework support and so much more! We encourage you to bring a friend!
URL:https://stpaulswatertown.com/event/spyrit/2026-08-19/
LOCATION:St. Paul’s Lutheran Church\, 505 Westminster Ave SW\, Watertown\, Minnesota\, 55388
CATEGORIES:Fellowship
ATTACH;FMTTYPE=image/webp:https://stpaulswatertown.com/wp-content/uploads/2024/05/SPYRIT_events.webp
END:VEVENT
BEGIN:VEVENT
DTSTART;TZID=America/Chicago:20260826T173000
DTEND;TZID=America/Chicago:20260826T193000
DTSTAMP:20260419T225251
CREATED:20241009T035333Z
LAST-MODIFIED:20250918T021947Z
UID:10001590-1787765400-1787772600@stpaulswatertown.com
SUMMARY:SPYRIT
DESCRIPTION:SPYRIT: St. Paul’s Youth Rooted in Truth\n\nGrades 7-12 are welcome to join us every Wednesday for dinner\, activities\, devotion\, homework support and so much more! We encourage you to bring a friend!
URL:https://stpaulswatertown.com/event/spyrit/2026-08-26/
LOCATION:St. Paul’s Lutheran Church\, 505 Westminster Ave SW\, Watertown\, Minnesota\, 55388
CATEGORIES:Fellowship
ATTACH;FMTTYPE=image/webp:https://stpaulswatertown.com/wp-content/uploads/2024/05/SPYRIT_events.webp
END:VEVENT
BEGIN:VEVENT
DTSTART;TZID=America/Chicago:20260902T173000
DTEND;TZID=America/Chicago:20260902T193000
DTSTAMP:20260419T225251
CREATED:20241009T035333Z
LAST-MODIFIED:20250918T021947Z
UID:10001591-1788370200-1788377400@stpaulswatertown.com
SUMMARY:SPYRIT
DESCRIPTION:SPYRIT: St. Paul’s Youth Rooted in Truth\n\nGrades 7-12 are welcome to join us every Wednesday for dinner\, activities\, devotion\, homework support and so much more! We encourage you to bring a friend!
URL:https://stpaulswatertown.com/event/spyrit/2026-09-02/
LOCATION:St. Paul’s Lutheran Church\, 505 Westminster Ave SW\, Watertown\, Minnesota\, 55388
CATEGORIES:Fellowship
ATTACH;FMTTYPE=image/webp:https://stpaulswatertown.com/wp-content/uploads/2024/05/SPYRIT_events.webp
END:VEVENT
BEGIN:VEVENT
DTSTART;TZID=America/Chicago:20260909T173000
DTEND;TZID=America/Chicago:20260909T193000
DTSTAMP:20260419T225251
CREATED:20241009T035333Z
LAST-MODIFIED:20250918T021947Z
UID:10001592-1788975000-1788982200@stpaulswatertown.com
SUMMARY:SPYRIT
DESCRIPTION:SPYRIT: St. Paul’s Youth Rooted in Truth\n\nGrades 7-12 are welcome to join us every Wednesday for dinner\, activities\, devotion\, homework support and so much more! We encourage you to bring a friend!
URL:https://stpaulswatertown.com/event/spyrit/2026-09-09/
LOCATION:St. Paul’s Lutheran Church\, 505 Westminster Ave SW\, Watertown\, Minnesota\, 55388
CATEGORIES:Fellowship
ATTACH;FMTTYPE=image/webp:https://stpaulswatertown.com/wp-content/uploads/2024/05/SPYRIT_events.webp
END:VEVENT
BEGIN:VEVENT
DTSTART;TZID=America/Chicago:20260916T173000
DTEND;TZID=America/Chicago:20260916T193000
DTSTAMP:20260419T225251
CREATED:20241009T035333Z
LAST-MODIFIED:20250918T021947Z
UID:10001593-1789579800-1789587000@stpaulswatertown.com
SUMMARY:SPYRIT
DESCRIPTION:SPYRIT: St. Paul’s Youth Rooted in Truth\n\nGrades 7-12 are welcome to join us every Wednesday for dinner\, activities\, devotion\, homework support and so much more! We encourage you to bring a friend!
URL:https://stpaulswatertown.com/event/spyrit/2026-09-16/
LOCATION:St. Paul’s Lutheran Church\, 505 Westminster Ave SW\, Watertown\, Minnesota\, 55388
CATEGORIES:Fellowship
ATTACH;FMTTYPE=image/webp:https://stpaulswatertown.com/wp-content/uploads/2024/05/SPYRIT_events.webp
END:VEVENT
BEGIN:VEVENT
DTSTART;TZID=America/Chicago:20260923T173000
DTEND;TZID=America/Chicago:20260923T193000
DTSTAMP:20260419T225251
CREATED:20241009T035333Z
LAST-MODIFIED:20250918T021947Z
UID:10001594-1790184600-1790191800@stpaulswatertown.com
SUMMARY:SPYRIT
DESCRIPTION:SPYRIT: St. Paul’s Youth Rooted in Truth\n\nGrades 7-12 are welcome to join us every Wednesday for dinner\, activities\, devotion\, homework support and so much more! We encourage you to bring a friend!
URL:https://stpaulswatertown.com/event/spyrit/2026-09-23/
LOCATION:St. Paul’s Lutheran Church\, 505 Westminster Ave SW\, Watertown\, Minnesota\, 55388
CATEGORIES:Fellowship
ATTACH;FMTTYPE=image/webp:https://stpaulswatertown.com/wp-content/uploads/2024/05/SPYRIT_events.webp
END:VEVENT
BEGIN:VEVENT
DTSTART;TZID=America/Chicago:20260930T173000
DTEND;TZID=America/Chicago:20260930T193000
DTSTAMP:20260419T225251
CREATED:20241009T035333Z
LAST-MODIFIED:20250918T021947Z
UID:10001595-1790789400-1790796600@stpaulswatertown.com
SUMMARY:SPYRIT
DESCRIPTION:SPYRIT: St. Paul’s Youth Rooted in Truth\n\nGrades 7-12 are welcome to join us every Wednesday for dinner\, activities\, devotion\, homework support and so much more! We encourage you to bring a friend!
URL:https://stpaulswatertown.com/event/spyrit/2026-09-30/
LOCATION:St. Paul’s Lutheran Church\, 505 Westminster Ave SW\, Watertown\, Minnesota\, 55388
CATEGORIES:Fellowship
ATTACH;FMTTYPE=image/webp:https://stpaulswatertown.com/wp-content/uploads/2024/05/SPYRIT_events.webp
END:VEVENT
BEGIN:VEVENT
DTSTART;TZID=America/Chicago:20261007T173000
DTEND;TZID=America/Chicago:20261007T193000
DTSTAMP:20260419T225251
CREATED:20241009T035333Z
LAST-MODIFIED:20250918T021947Z
UID:10001596-1791394200-1791401400@stpaulswatertown.com
SUMMARY:SPYRIT
DESCRIPTION:SPYRIT: St. Paul’s Youth Rooted in Truth\n\nGrades 7-12 are welcome to join us every Wednesday for dinner\, activities\, devotion\, homework support and so much more! We encourage you to bring a friend!
URL:https://stpaulswatertown.com/event/spyrit/2026-10-07/
LOCATION:St. Paul’s Lutheran Church\, 505 Westminster Ave SW\, Watertown\, Minnesota\, 55388
CATEGORIES:Fellowship
ATTACH;FMTTYPE=image/webp:https://stpaulswatertown.com/wp-content/uploads/2024/05/SPYRIT_events.webp
END:VEVENT
BEGIN:VEVENT
DTSTART;TZID=America/Chicago:20261014T173000
DTEND;TZID=America/Chicago:20261014T193000
DTSTAMP:20260419T225251
CREATED:20241009T035333Z
LAST-MODIFIED:20250918T021947Z
UID:10001597-1791999000-1792006200@stpaulswatertown.com
SUMMARY:SPYRIT
DESCRIPTION:SPYRIT: St. Paul’s Youth Rooted in Truth\n\nGrades 7-12 are welcome to join us every Wednesday for dinner\, activities\, devotion\, homework support and so much more! We encourage you to bring a friend!
URL:https://stpaulswatertown.com/event/spyrit/2026-10-14/
LOCATION:St. Paul’s Lutheran Church\, 505 Westminster Ave SW\, Watertown\, Minnesota\, 55388
CATEGORIES:Fellowship
ATTACH;FMTTYPE=image/webp:https://stpaulswatertown.com/wp-content/uploads/2024/05/SPYRIT_events.webp
END:VEVENT
BEGIN:VEVENT
DTSTART;TZID=America/Chicago:20261021T173000
DTEND;TZID=America/Chicago:20261021T193000
DTSTAMP:20260419T225251
CREATED:20241009T035333Z
LAST-MODIFIED:20250918T021947Z
UID:10001598-1792603800-1792611000@stpaulswatertown.com
SUMMARY:SPYRIT
DESCRIPTION:SPYRIT: St. Paul’s Youth Rooted in Truth\n\nGrades 7-12 are welcome to join us every Wednesday for dinner\, activities\, devotion\, homework support and so much more! We encourage you to bring a friend!
URL:https://stpaulswatertown.com/event/spyrit/2026-10-21/
LOCATION:St. Paul’s Lutheran Church\, 505 Westminster Ave SW\, Watertown\, Minnesota\, 55388
CATEGORIES:Fellowship
ATTACH;FMTTYPE=image/webp:https://stpaulswatertown.com/wp-content/uploads/2024/05/SPYRIT_events.webp
END:VEVENT
BEGIN:VEVENT
DTSTART;TZID=America/Chicago:20261028T173000
DTEND;TZID=America/Chicago:20261028T193000
DTSTAMP:20260419T225251
CREATED:20241009T035333Z
LAST-MODIFIED:20250918T021947Z
UID:10001599-1793208600-1793215800@stpaulswatertown.com
SUMMARY:SPYRIT
DESCRIPTION:SPYRIT: St. Paul’s Youth Rooted in Truth\n\nGrades 7-12 are welcome to join us every Wednesday for dinner\, activities\, devotion\, homework support and so much more! We encourage you to bring a friend!
URL:https://stpaulswatertown.com/event/spyrit/2026-10-28/
LOCATION:St. Paul’s Lutheran Church\, 505 Westminster Ave SW\, Watertown\, Minnesota\, 55388
CATEGORIES:Fellowship
ATTACH;FMTTYPE=image/webp:https://stpaulswatertown.com/wp-content/uploads/2024/05/SPYRIT_events.webp
END:VEVENT
BEGIN:VEVENT
DTSTART;TZID=America/Chicago:20261104T173000
DTEND;TZID=America/Chicago:20261104T193000
DTSTAMP:20260419T225251
CREATED:20241009T035333Z
LAST-MODIFIED:20250918T021947Z
UID:10001600-1793813400-1793820600@stpaulswatertown.com
SUMMARY:SPYRIT
DESCRIPTION:SPYRIT: St. Paul’s Youth Rooted in Truth\n\nGrades 7-12 are welcome to join us every Wednesday for dinner\, activities\, devotion\, homework support and so much more! We encourage you to bring a friend!
URL:https://stpaulswatertown.com/event/spyrit/2026-11-04/
LOCATION:St. Paul’s Lutheran Church\, 505 Westminster Ave SW\, Watertown\, Minnesota\, 55388
CATEGORIES:Fellowship
ATTACH;FMTTYPE=image/webp:https://stpaulswatertown.com/wp-content/uploads/2024/05/SPYRIT_events.webp
END:VEVENT
BEGIN:VEVENT
DTSTART;TZID=America/Chicago:20261111T173000
DTEND;TZID=America/Chicago:20261111T193000
DTSTAMP:20260419T225251
CREATED:20241009T035333Z
LAST-MODIFIED:20250918T021947Z
UID:10001601-1794418200-1794425400@stpaulswatertown.com
SUMMARY:SPYRIT
DESCRIPTION:SPYRIT: St. Paul’s Youth Rooted in Truth\n\nGrades 7-12 are welcome to join us every Wednesday for dinner\, activities\, devotion\, homework support and so much more! We encourage you to bring a friend!
URL:https://stpaulswatertown.com/event/spyrit/2026-11-11/
LOCATION:St. Paul’s Lutheran Church\, 505 Westminster Ave SW\, Watertown\, Minnesota\, 55388
CATEGORIES:Fellowship
ATTACH;FMTTYPE=image/webp:https://stpaulswatertown.com/wp-content/uploads/2024/05/SPYRIT_events.webp
END:VEVENT
END:VCALENDAR